Package: survClust Version: 1.3.0 Command: rm -rf survClust.buildbin-libdir && mkdir survClust.buildbin-libdir && /Users/biocbuild/BBS/utils/build-universal.sh survClust_1.3.0.tar.gz /Library/Frameworks/R.framework/Resources/bin/R survClust.buildbin-libdir StartedAt: 2025-09-29 22:54:05 -0400 (Mon, 29 Sep 2025) EndedAt: 2025-09-29 22:54:18 -0400 (Mon, 29 Sep 2025) EllapsedTime: 12.3 seconds RetCode: 0 Status: OK PackageFile: survClust_1.3.0.tgz PackageFileSize: 768.1 KiB