Package: survClust Version: 1.1.0 Maintainer: Arshi Arora MaintainerEmail: arshiaurora at gmail.com git_url: https://git.bioconductor.org/packages/survClust git_branch: devel git_last_commit: ddcd08b git_last_commit_date: 2024-10-29 11:31:19 -0500 (Tue, 29 Oct 2024)