Package: surfaltr Version: 1.15.0 Command: /home/biocbuild/R/R/bin/R CMD INSTALL surfaltr StartedAt: 2025-10-02 21:01:44 -0000 (Thu, 02 Oct 2025) EndedAt: 2025-10-02 21:02:08 -0000 (Thu, 02 Oct 2025) EllapsedTime: 23.7 seconds RetCode: 0 Status: OK