Package: supersigs Version: 1.17.0 Command: /home/biocbuild/R/R/bin/R CMD build --keep-empty-dirs --no-resave-data supersigs StartedAt: 2025-10-14 04:02:11 -0000 (Tue, 14 Oct 2025) EndedAt: 2025-10-14 04:03:38 -0000 (Tue, 14 Oct 2025) EllapsedTime: 87.0 seconds RetCode: 0 Status: OK PackageFile: supersigs_1.17.0.tar.gz PackageFileSize: 2.589 MiB