Package: subSeq Version: 1.37.0 Command: E:\biocbuild\bbs-3.21-bioc\R\bin\R.exe CMD INSTALL subSeq StartedAt: 2025-02-10 15:44:04 -0500 (Mon, 10 Feb 2025) EndedAt: 2025-02-10 15:44:19 -0500 (Mon, 10 Feb 2025) EllapsedTime: 14.5 seconds RetCode: 0 Status: OK