Package: subSeq Version: 1.37.0 Command: chmod a+r subSeq -R && E:\biocbuild\bbs-3.21-bioc\R\bin\R.exe CMD build --keep-empty-dirs --no-resave-data subSeq StartedAt: 2025-02-10 22:10:55 -0500 (Mon, 10 Feb 2025) EndedAt: 2025-02-10 22:11:48 -0500 (Mon, 10 Feb 2025) EllapsedTime: 53.6 seconds RetCode: 0 Status: OK PackageFile: subSeq_1.37.0.tar.gz PackageFileSize: 2.91 MiB