Package: subSeq Version: 1.37.0 Command: rm -rf subSeq.buildbin-libdir && mkdir subSeq.buildbin-libdir && E:\biocbuild\bbs-3.21-bioc\R\bin\R.exe CMD INSTALL --build --library=subSeq.buildbin-libdir subSeq_1.37.0.tar.gz StartedAt: 2025-02-11 09:03:32 -0500 (Tue, 11 Feb 2025) EndedAt: 2025-02-11 09:03:46 -0500 (Tue, 11 Feb 2025) EllapsedTime: 14.4 seconds RetCode: 0 Status: OK PackageFile: subSeq_1.37.0.zip PackageFileSize: 2.943 MiB