Package: subSeq Version: 1.37.0 Command: /home/biocbuild/bbs-3.21-bioc/R/bin/R CMD INSTALL subSeq StartedAt: 2025-02-05 15:13:36 -0500 (Wed, 05 Feb 2025) EndedAt: 2025-02-05 15:13:41 -0500 (Wed, 05 Feb 2025) EllapsedTime: 5.0 seconds RetCode: 0 Status: OK