Package: subSeq Version: 1.37.0 Command: /home/biocbuild/bbs-3.21-bioc/R/bin/R CMD build --keep-empty-dirs --no-resave-data subSeq StartedAt: 2025-02-05 19:30:54 -0500 (Wed, 05 Feb 2025) EndedAt: 2025-02-05 19:31:29 -0500 (Wed, 05 Feb 2025) EllapsedTime: 35.0 seconds RetCode: 0 Status: OK PackageFile: subSeq_1.37.0.tar.gz PackageFileSize: 2.917 MiB