Package: subSeq Version: 1.37.0 Command: /home/biocbuild/R/R/bin/R CMD INSTALL subSeq StartedAt: 2025-01-29 19:59:51 -0000 (Wed, 29 Jan 2025) EndedAt: 2025-01-29 19:59:58 -0000 (Wed, 29 Jan 2025) EllapsedTime: 7.7 seconds RetCode: 0 Status: OK