Package: subSeq Version: 1.37.0 Maintainer: Andrew J. Bass , John D. Storey MaintainerEmail: jstorey at princeton.edu git_url: https://git.bioconductor.org/packages/subSeq git_branch: devel git_last_commit: 694bd4d git_last_commit_date: 2024-10-29 10:05:00 -0500 (Tue, 29 Oct 2024)