Package: structToolbox Version: 1.21.0 Command: /home/biocbuild/bbs-3.22-bioc/R/bin/R CMD check --install=check:structToolbox.install-out.txt --library=/home/biocbuild/bbs-3.22-bioc/R/site-library --timings structToolbox_1.21.0.tar.gz StartedAt: 2025-09-30 05:04:39 -0400 (Tue, 30 Sep 2025) EndedAt: 2025-09-30 05:24:49 -0400 (Tue, 30 Sep 2025) EllapsedTime: 1210.3 seconds RetCode: 0 Status: OK CheckDir: structToolbox.Rcheck Warnings: 0