Package: structToolbox Version: 1.21.0 Command: /Library/Frameworks/R.framework/Resources/bin/R CMD check --install=check:structToolbox.install-out.txt --library=/Library/Frameworks/R.framework/Resources/library --no-vignettes --timings structToolbox_1.21.0.tar.gz StartedAt: 2025-05-20 21:34:38 -0400 (Tue, 20 May 2025) EndedAt: 2025-05-20 21:37:24 -0400 (Tue, 20 May 2025) EllapsedTime: 165.9 seconds RetCode: 0 Status: OK CheckDir: structToolbox.Rcheck Warnings: 0