Package: struct Version: 1.21.1 Command: /home/biocbuild/R/R/bin/R CMD INSTALL struct StartedAt: 2025-10-13 21:08:06 -0000 (Mon, 13 Oct 2025) EndedAt: 2025-10-13 21:08:39 -0000 (Mon, 13 Oct 2025) EllapsedTime: 32.8 seconds RetCode: 0 Status: OK