Package: struct Version: 1.21.1 Command: rm -rf struct.buildbin-libdir && mkdir struct.buildbin-libdir && F:\biocbuild\bbs-3.22-bioc\R\bin\R.exe CMD INSTALL --build --library=struct.buildbin-libdir struct_1.21.1.tar.gz StartedAt: 2025-08-15 11:26:26 -0400 (Fri, 15 Aug 2025) EndedAt: 2025-08-15 11:27:59 -0400 (Fri, 15 Aug 2025) EllapsedTime: 93.3 seconds RetCode: 0 Status: OK PackageFile: struct_1.21.1.zip PackageFileSize: 1.545 MiB