Package: struct Version: 1.21.1 Command: /home/biocbuild/bbs-3.22-bioc/R/bin/R CMD check --install=check:struct.install-out.txt --library=/home/biocbuild/bbs-3.22-bioc/R/site-library --timings struct_1.21.1.tar.gz StartedAt: 2025-10-28 04:41:16 -0400 (Tue, 28 Oct 2025) EndedAt: 2025-10-28 04:44:09 -0400 (Tue, 28 Oct 2025) EllapsedTime: 173.2 seconds RetCode: 0 Status: OK CheckDir: struct.Rcheck Warnings: 0