Package: strandCheckR Version: 1.27.1 Command: rm -rf strandCheckR.buildbin-libdir && mkdir strandCheckR.buildbin-libdir && F:\biocbuild\bbs-3.22-bioc\R\bin\R.exe CMD INSTALL --build --library=strandCheckR.buildbin-libdir strandCheckR_1.27.1.tar.gz StartedAt: 2025-08-15 11:26:14 -0400 (Fri, 15 Aug 2025) EndedAt: 2025-08-15 11:27:09 -0400 (Fri, 15 Aug 2025) EllapsedTime: 54.7 seconds RetCode: 0 Status: OK PackageFile: strandCheckR_1.27.1.zip PackageFileSize: 943 KiB