Package: strandCheckR Version: 1.27.0 Maintainer: Thu-Hien To MaintainerEmail: tothuhien at gmail.com git_url: https://git.bioconductor.org/packages/strandCheckR git_branch: devel git_last_commit: a59c8af git_last_commit_date: 2025-04-15 11:35:38 -0400 (Tue, 15 Apr 2025)