Package: stepNorm Version: 1.81.0 Command: rm -rf stepNorm.buildbin-libdir && mkdir stepNorm.buildbin-libdir && F:\biocbuild\bbs-3.22-bioc\R\bin\R.exe CMD INSTALL --build --library=stepNorm.buildbin-libdir stepNorm_1.81.0.tar.gz StartedAt: 2025-08-15 11:26:10 -0400 (Fri, 15 Aug 2025) EndedAt: 2025-08-15 11:26:22 -0400 (Fri, 15 Aug 2025) EllapsedTime: 12.3 seconds RetCode: 0 Status: OK PackageFile: stepNorm_1.81.0.zip PackageFileSize: 548.9 KiB