Package: standR Version: 1.13.0 Command: /home/biocbuild/bbs-3.22-bioc/R/bin/R CMD INSTALL standR StartedAt: 2025-10-02 15:54:52 -0400 (Thu, 02 Oct 2025) EndedAt: 2025-10-02 15:55:20 -0400 (Thu, 02 Oct 2025) EllapsedTime: 27.8 seconds RetCode: 0 Status: OK