Package: stPipe Version: 1.1.0 Command: /home/biocbuild/bbs-3.23-bioc/R/bin/R CMD INSTALL stPipe StartedAt: 2025-11-07 15:36:05 -0500 (Fri, 07 Nov 2025) EndedAt: 2025-11-07 15:36:54 -0500 (Fri, 07 Nov 2025) EllapsedTime: 49.2 seconds RetCode: 0 Status: OK