Package: stPipe Version: 1.1.0 Command: /home/biocbuild/bbs-3.23-bioc/R/bin/R CMD build --keep-empty-dirs --no-resave-data stPipe StartedAt: 2025-11-07 20:18:19 -0500 (Fri, 07 Nov 2025) EndedAt: 2025-11-07 20:28:28 -0500 (Fri, 07 Nov 2025) EllapsedTime: 608.9 seconds RetCode: 0 Status: OK PackageFile: stPipe_1.1.0.tar.gz PackageFileSize: 5.844 MiB