Package: stPipe Version: 1.1.1 Command: /Library/Frameworks/R.framework/Resources/bin/R CMD INSTALL stPipe StartedAt: 2025-11-18 15:41:01 -0500 (Tue, 18 Nov 2025) EndedAt: 2025-11-18 15:42:01 -0500 (Tue, 18 Nov 2025) EllapsedTime: 60.4 seconds RetCode: 0 Status: OK