Package: stPipe Version: 1.1.0 Command: /Library/Frameworks/R.framework/Resources/bin/R CMD build --keep-empty-dirs --no-resave-data stPipe StartedAt: 2025-11-16 23:54:29 -0500 (Sun, 16 Nov 2025) EndedAt: 2025-11-17 00:14:07 -0500 (Mon, 17 Nov 2025) EllapsedTime: 1178.4 seconds RetCode: 0 Status: OK PackageFile: stPipe_1.1.0.tar.gz PackageFileSize: 5.871 MiB