Package: stPipe Version: 1.1.0 Command: rm -rf stPipe.buildbin-libdir && mkdir stPipe.buildbin-libdir && /Users/biocbuild/BBS/utils/build-universal.sh stPipe_1.1.0.tar.gz /Library/Frameworks/R.framework/Resources/bin/R stPipe.buildbin-libdir StartedAt: 2025-11-17 07:20:39 -0500 (Mon, 17 Nov 2025) EndedAt: 2025-11-17 07:21:45 -0500 (Mon, 17 Nov 2025) EllapsedTime: 66.3 seconds RetCode: 0 Status: OK PackageFile: stPipe_1.1.0.tgz PackageFileSize: 7.352 MiB