Package: stPipe Version: 0.99.995 Command: /Library/Frameworks/R.framework/Resources/bin/R CMD INSTALL stPipe StartedAt: 2025-10-27 15:17:07 -0400 (Mon, 27 Oct 2025) EndedAt: 2025-10-27 15:17:24 -0400 (Mon, 27 Oct 2025) EllapsedTime: 17.2 seconds RetCode: 0 Status: OK