Package: stPipe Version: 0.99.995 Command: /Library/Frameworks/R.framework/Resources/bin/R CMD build --keep-empty-dirs --no-resave-data stPipe StartedAt: 2025-10-26 18:09:47 -0400 (Sun, 26 Oct 2025) EndedAt: 2025-10-26 18:10:37 -0400 (Sun, 26 Oct 2025) EllapsedTime: 49.5 seconds RetCode: 1 Status: ERROR PackageFile: None PackageFileSize: NA