Package: stPipe Version: 0.99.995 Command: rm -rf stPipe.buildbin-libdir && mkdir stPipe.buildbin-libdir && /Users/biocbuild/BBS/utils/build-universal.sh stPipe_0.99.995.tar.gz /Library/Frameworks/R.framework/Resources/bin/R stPipe.buildbin-libdir StartedAt: 2025-10-24 23:21:44 -0400 (Fri, 24 Oct 2025) EndedAt: 2025-10-24 23:22:03 -0400 (Fri, 24 Oct 2025) EllapsedTime: 19.5 seconds RetCode: 0 Status: OK PackageFile: stPipe_0.99.995.tgz PackageFileSize: 7.046 MiB