Package: stPipe Version: 1.1.2 Maintainer: Yang Xu MaintainerEmail: xu.ya at wehi.edu.au git_url: https://git.bioconductor.org/packages/stPipe git_branch: devel git_last_commit: 4830cb8 git_last_commit_date: 2025-11-20 00:26:43 -0500 (Thu, 20 Nov 2025)