Package: stJoincount Version: 1.11.0 Command: /home/biocbuild/R/R/bin/R CMD build --keep-empty-dirs --no-resave-data stJoincount StartedAt: 2025-10-21 03:32:10 -0000 (Tue, 21 Oct 2025) EndedAt: 2025-10-21 03:34:01 -0000 (Tue, 21 Oct 2025) EllapsedTime: 111.0 seconds RetCode: 0 Status: OK PackageFile: stJoincount_1.11.0.tar.gz PackageFileSize: 2.624 MiB