Package: stJoincount Version: 1.11.0 Maintainer: Jiarong Song MaintainerEmail: songjiar at usc.edu git_url: https://git.bioconductor.org/packages/stJoincount git_branch: devel git_last_commit: 3c16bb4 git_last_commit_date: 2025-04-15 12:58:39 -0400 (Tue, 15 Apr 2025)