Package: ssrch Version: 1.25.0 Command: /home/biocbuild/bbs-3.22-bioc/R/bin/R CMD INSTALL ssrch StartedAt: 2025-10-19 15:08:32 -0400 (Sun, 19 Oct 2025) EndedAt: 2025-10-19 15:08:51 -0400 (Sun, 19 Oct 2025) EllapsedTime: 19.2 seconds RetCode: 0 Status: OK