Package: ssrch Version: 1.25.0 Command: /home/biocbuild/bbs-3.22-bioc/R/bin/R CMD build --keep-empty-dirs --no-resave-data --md5 ssrch StartedAt: 2025-10-19 20:20:13 -0400 (Sun, 19 Oct 2025) EndedAt: 2025-10-19 20:20:21 -0400 (Sun, 19 Oct 2025) EllapsedTime: 8.0 seconds RetCode: 0 Status: OK PackageFile: ssrch_1.25.0.tar.gz PackageFileSize: 1.445 MiB