Package: ssize Version: 1.83.0 Command: /Library/Frameworks/R.framework/Resources/bin/R CMD INSTALL ssize StartedAt: 2025-05-26 15:27:10 -0400 (Mon, 26 May 2025) EndedAt: 2025-05-26 15:27:57 -0400 (Mon, 26 May 2025) EllapsedTime: 46.1 seconds RetCode: 0 Status: OK