Package: ssize Version: 1.83.0 Command: /Library/Frameworks/R.framework/Resources/bin/R CMD check --install=check:ssize.install-out.txt --library=/Library/Frameworks/R.framework/Resources/library --no-vignettes --timings ssize_1.83.0.tar.gz StartedAt: 2025-05-27 23:40:13 -0400 (Tue, 27 May 2025) EndedAt: 2025-05-27 23:40:42 -0400 (Tue, 27 May 2025) EllapsedTime: 28.6 seconds RetCode: 0 Status: OK CheckDir: ssize.Rcheck Warnings: 0