Package: sscu Version: 2.39.0 Command: /home/biocbuild/bbs-3.22-bioc/R/bin/R CMD INSTALL sscu StartedAt: 2025-10-01 15:17:41 -0400 (Wed, 01 Oct 2025) EndedAt: 2025-10-01 15:17:52 -0400 (Wed, 01 Oct 2025) EllapsedTime: 11.7 seconds RetCode: 0 Status: OK