Package: sscu Version: 2.39.0 Command: /home/biocbuild/bbs-3.22-bioc/R/bin/R CMD build --keep-empty-dirs --no-resave-data --md5 sscu StartedAt: 2025-10-01 20:41:59 -0400 (Wed, 01 Oct 2025) EndedAt: 2025-10-01 20:42:14 -0400 (Wed, 01 Oct 2025) EllapsedTime: 15.0 seconds RetCode: 0 Status: OK PackageFile: sscu_2.39.0.tar.gz PackageFileSize: 1.289 MiB