Package: ssPATHS Version: 1.21.0 Command: E:\biocbuild\bbs-3.21-bioc\R\bin\R.exe CMD INSTALL ssPATHS StartedAt: 2025-02-16 16:30:13 -0500 (Sun, 16 Feb 2025) EndedAt: 2025-02-16 16:30:45 -0500 (Sun, 16 Feb 2025) EllapsedTime: 31.6 seconds RetCode: 0 Status: OK