Package: srnadiff Version: 1.29.1 Command: /home/biocbuild/bbs-3.22-bioc/R/bin/R CMD INSTALL srnadiff StartedAt: 2025-10-16 16:53:49 -0400 (Thu, 16 Oct 2025) EndedAt: 2025-10-16 16:55:09 -0400 (Thu, 16 Oct 2025) EllapsedTime: 80.1 seconds RetCode: 0 Status: OK