Package: srnadiff Version: 1.29.1 Command: /home/biocbuild/bbs-3.22-bioc/R/bin/R CMD build --keep-empty-dirs --no-resave-data --md5 srnadiff StartedAt: 2025-10-16 21:23:12 -0400 (Thu, 16 Oct 2025) EndedAt: 2025-10-16 21:25:17 -0400 (Thu, 16 Oct 2025) EllapsedTime: 125.1 seconds RetCode: 0 Status: OK PackageFile: srnadiff_1.29.1.tar.gz PackageFileSize: 2.435 MiB