Package: squallms Version: 1.3.0 Command: /home/biocbuild/R/R/bin/R CMD build --keep-empty-dirs --no-resave-data squallms StartedAt: 2025-10-10 04:31:02 -0000 (Fri, 10 Oct 2025) EndedAt: 2025-10-10 04:33:05 -0000 (Fri, 10 Oct 2025) EllapsedTime: 123.0 seconds RetCode: 0 Status: OK PackageFile: squallms_1.3.0.tar.gz PackageFileSize: 1.785 MiB