Package: squallms Version: 1.1.0 Command: /home/biocbuild/bbs-3.21-bioc/R/bin/R CMD INSTALL squallms StartedAt: 2025-02-02 15:46:17 -0500 (Sun, 02 Feb 2025) EndedAt: 2025-02-02 15:47:02 -0500 (Sun, 02 Feb 2025) EllapsedTime: 44.7 seconds RetCode: 0 Status: OK