Package: squallms Version: 1.1.0 Command: /Library/Frameworks/R.framework/Resources/bin/R CMD check --install=check:squallms.install-out.txt --library=/Library/Frameworks/R.framework/Resources/library --no-vignettes --timings squallms_1.1.0.tar.gz StartedAt: 2025-02-02 23:26:12 -0500 (Sun, 02 Feb 2025) EndedAt: 2025-02-02 23:34:51 -0500 (Sun, 02 Feb 2025) EllapsedTime: 519.1 seconds RetCode: 0 Status: OK CheckDir: squallms.Rcheck Warnings: 0