Package: squallms Version: 1.1.0 Command: rm -rf squallms.buildbin-libdir && mkdir squallms.buildbin-libdir && /Users/biocbuild/BBS/utils/build-universal.sh squallms_1.1.0.tar.gz /Library/Frameworks/R.framework/Resources/bin/R squallms.buildbin-libdir StartedAt: 2025-02-06 00:55:06 -0500 (Thu, 06 Feb 2025) EndedAt: 2025-02-06 00:56:07 -0500 (Thu, 06 Feb 2025) EllapsedTime: 61.5 seconds RetCode: 0 Status: OK PackageFile: squallms_1.1.0.tgz PackageFileSize: 1.789 MiB