Package: squallms Version: 1.3.0 Maintainer: William Kumler MaintainerEmail: wkumler at uw.edu git_url: https://git.bioconductor.org/packages/squallms git_branch: devel git_last_commit: 33adcb8 git_last_commit_date: 2025-04-15 13:37:10 -0400 (Tue, 15 Apr 2025)