Package: spqn Version: 1.19.0 Command: E:\biocbuild\bbs-3.21-bioc\R\bin\R.exe CMD check --no-multiarch --install=check:spqn.install-out.txt --library=E:\biocbuild\bbs-3.21-bioc\R\library --no-vignettes --timings spqn_1.19.0.tar.gz StartedAt: 2025-02-17 05:38:13 -0500 (Mon, 17 Feb 2025) EndedAt: 2025-02-17 05:42:26 -0500 (Mon, 17 Feb 2025) EllapsedTime: 253.1 seconds RetCode: 0 Status: OK CheckDir: spqn.Rcheck Warnings: 0