Package: spqn Version: 1.19.0 Command: rm -rf spqn.buildbin-libdir && mkdir spqn.buildbin-libdir && E:\biocbuild\bbs-3.21-bioc\R\bin\R.exe CMD INSTALL --build --library=spqn.buildbin-libdir spqn_1.19.0.tar.gz StartedAt: 2025-02-17 08:35:42 -0500 (Mon, 17 Feb 2025) EndedAt: 2025-02-17 08:36:11 -0500 (Mon, 17 Feb 2025) EllapsedTime: 28.9 seconds RetCode: 0 Status: OK PackageFile: spqn_1.19.0.zip PackageFileSize: 2.281 MiB