Package: spqn Version: 1.19.0 Command: /Library/Frameworks/R.framework/Resources/bin/R CMD INSTALL spqn StartedAt: 2025-02-16 15:11:23 -0500 (Sun, 16 Feb 2025) EndedAt: 2025-02-16 15:11:52 -0500 (Sun, 16 Feb 2025) EllapsedTime: 29.3 seconds RetCode: 0 Status: OK