Package: spqn Version: 1.19.0 Command: /Library/Frameworks/R.framework/Resources/bin/R CMD build --keep-empty-dirs --no-resave-data spqn StartedAt: 2025-02-16 18:20:31 -0500 (Sun, 16 Feb 2025) EndedAt: 2025-02-16 18:22:15 -0500 (Sun, 16 Feb 2025) EllapsedTime: 104.0 seconds RetCode: 0 Status: OK PackageFile: spqn_1.19.0.tar.gz PackageFileSize: 2.807 MiB