Package: spqn Version: 1.19.0 Command: /home/biocbuild/R/R/bin/R CMD INSTALL spqn StartedAt: 2025-01-29 19:43:14 -0000 (Wed, 29 Jan 2025) EndedAt: 2025-01-29 19:43:45 -0000 (Wed, 29 Jan 2025) EllapsedTime: 30.4 seconds RetCode: 0 Status: OK